BEGIN:VCALENDAR
VERSION:2.0
PRODID:-//NFAA - ECPv6.15.20//NONSGML v1.0//EN
CALSCALE:GREGORIAN
METHOD:PUBLISH
X-WR-CALNAME:NFAA
X-ORIGINAL-URL:https://nfaa.co.za
X-WR-CALDESC:Events for NFAA
REFRESH-INTERVAL;VALUE=DURATION:PT1H
X-Robots-Tag:noindex
X-PUBLISHED-TTL:PT1H
BEGIN:VTIMEZONE
TZID:Africa/Johannesburg
BEGIN:STANDARD
TZOFFSETFROM:+0200
TZOFFSETTO:+0200
TZNAME:SAST
DTSTART:20230101T000000
END:STANDARD
END:VTIMEZONE
BEGIN:VEVENT
DTSTART;TZID=Africa/Johannesburg:20240506T080000
DTEND;TZID=Africa/Johannesburg:20240509T150000
DTSTAMP:20260424T152731
CREATED:20230223T132413Z
LAST-MODIFIED:20240208T080401Z
UID:520-1714982400-1715266800@nfaa.co.za
SUMMARY:First Aid Level 1 and 2 combined
DESCRIPTION:Provide risk-based primary emergency care. US/ 119567 and 120496 \n\n\n\n	\n		\n			2024/05/06		\n\n					\n				 @ 			\n			\n				08:00			\n		\n									\n					- till -				\n			\n							\n					2024/05/09				\n\n									\n						 @ 					\n					\n						15:00					\n				\n			\n						 \n\n\n\n\nIf you’re looking to up skill yourself or your employees in first aid\, look no further than this course! Covering all the material from both level one and level two courses\, this comprehensive program is perfect for those working in high-risk environments. Whether you’re dealing with potential dangers on a daily basis\, or you work in a remote location far from medical services\, this training is essential. \nDon’t settle for basic knowledge when it comes to saving lives. Enroll in First Aid Level Two today and gain the confidence and skills needed to handle any emergency situation! \nDuration: 4 Days \nCertificate valid for 3 years \n\n\nFirst Aid Level 1 and 2 Combined\n\n\n\nOnce payment is complete you will be asked to complete a registration form. \n\n\n\n \n \n\n\n\n\n\n\n\n\nQuantity: \n\n\n\n\n\n\n\n\n\n\n\n\n\n\n\n\n\n	\n		\n			\n				\n					\n						\n	\n	\n\n						\n							Add to calendar						\n						\n	\n\n					\n					\n						\n															\n									\n										Google Calendar									\n								\n															\n									\n										iCalendar									\n								\n															\n									\n										Outlook 365									\n								\n															\n									\n										Outlook Live									\n								\n													\n					\n				\n			\n		\n	\n\n\n\n\n	\n	\n\n	\n					Details		\n	\n	\n\n		\n			\n				Start:\n				\n					 2024/05/06 @ 08:00 \n									\n			\n\n			\n				End:\n				\n					 2024/05/09 @ 15:00 \n									\n			\n\n		\n					\n				Cost:\n				 R1100 \n			\n		\n		\n		Event Category: Sandton Training Venue\n		Event Tags:firefighting\, first aid\, first aid course\, first aid courses\, first aid courses Gauteng\, first aid courses South Africa\, first aid level 1\, first aid training\, nfaa\, Occupational Health and Safety\, Provide risk-based primary emergency care. US/ 120496\n		\n			\n\n	\n\n	\n					Organizer			\n	\n					\n				\n					NFAA Office				\n			\n							\n					\n						Phone					\n					\n						0823372737					\n				\n								\n					\n						Email					\n					\n						info@nfaa.co.za					\n				\n								\n					\n						Website					\n					\n						View Organizer Website					\n				\n					\n\n\n	\n\n\n\n	\n	\n\n	\n		Office of IBTC\n	\n\n	\n						\n				\n\nIBTC\, Grayston Ridge Office park Block B \, 144 Katherine St\, Sandown\n	\n		\n		Sandton\,\n\n	Gauteng\n\n	2031\n\n\n\n\n									+ Google Map							\n		\n					082 337 2737
URL:https://nfaa.co.za/event/first-aid-level-1-and-2-combined-4/
LOCATION:Office of IBTC\, IBTC\, Grayston Ridge Office park Block B \, 144 Katherine St\, Sandown\, Sandton\, Gauteng\, 2031
CATEGORIES:Sandton Training Venue
ATTACH;FMTTYPE=image/png:https://nfaa.co.za/wp-content/uploads/2023/02/IBTC-Sandton-e1678900033417.png
ORGANIZER;CN="NFAA Office":MAILTO:info@nfaa.co.za
END:VEVENT
END:VCALENDAR