BEGIN:VCALENDAR
VERSION:2.0
PRODID:-//NFAA - ECPv6.15.20//NONSGML v1.0//EN
CALSCALE:GREGORIAN
METHOD:PUBLISH
X-ORIGINAL-URL:https://nfaa.co.za
X-WR-CALDESC:Events for NFAA
REFRESH-INTERVAL;VALUE=DURATION:PT1H
X-Robots-Tag:noindex
X-PUBLISHED-TTL:PT1H
BEGIN:VTIMEZONE
TZID:Africa/Johannesburg
BEGIN:STANDARD
TZOFFSETFROM:+0200
TZOFFSETTO:+0200
TZNAME:SAST
DTSTART:20230101T000000
END:STANDARD
END:VTIMEZONE
BEGIN:VEVENT
DTSTART;TZID=Africa/Johannesburg:20240115T090000
DTEND;TZID=Africa/Johannesburg:20240116T160000
DTSTAMP:20260424T200814
CREATED:20230223T131939Z
LAST-MODIFIED:20231206T121943Z
UID:490-1705309200-1705420800@nfaa.co.za
SUMMARY:First Aid Level 1 Save A Child
DESCRIPTION:The “Basic First Aid: Save a Child” course is designed to provide individuals with the knowledge and skills necessary to provide emergency care for a child in need. The course covers a range of topics including CPR\, choking\, bleeding\, burns\, fractures\, and other common medical emergencies that can occur in children. \nParticipants will learn how to assess a child’s condition\, administer appropriate first aid techniques\, and communicate effectively with emergency responders. The course is ideal for parents\, caregivers\, teachers\, and anyone else who may be responsible for the safety and well-being of children. By completing this course\, participants will be better equipped to respond to emergencies and potentially save a child’s life. \nCOURSE DURATION: 2 DAYS \n\n\n\nFirst Aid Level 1 Save a Child\n\n\n\nOnce payment is complete you will be asked to complete a registration form. \n\n\n\n \n \n\n\n\n\n\n\n\n\nQuantity:
URL:https://nfaa.co.za/event/first-aid-level-1-save-a-child-2/
LOCATION:Office of IBTC\, IBTC\, Grayston Ridge Office park Block B \, 144 Katherine St\, Sandown\, Sandton\, Gauteng\, 2031
CATEGORIES:Sandton Training Venue
ATTACH;FMTTYPE=image/webp:https://nfaa.co.za/wp-content/uploads/2023/02/IBTC-Sandton-1536x630.png-DQ3k3m.tmp_-e1680641813352.webp
ORGANIZER;CN="NFAA Office":MAILTO:info@nfaa.co.za
END:VEVENT
BEGIN:VEVENT
DTSTART;TZID=Africa/Johannesburg:20240115T090000
DTEND;TZID=Africa/Johannesburg:20240118T160000
DTSTAMP:20260424T200814
CREATED:20230223T132215Z
LAST-MODIFIED:20231206T120533Z
UID:517-1705309200-1705593600@nfaa.co.za
SUMMARY:First Aid Level 1 and 2 combined
DESCRIPTION:Provide risk-based primary emergency care. US/ 119567 and 120496 \n\n\n\n\n\n\nIf you’re looking to up skill yourself or your employees in first aid\, look no further than this course! Covering all the material from both level one and level two courses\, this comprehensive program is perfect for those working in high-risk environments. \nWhether you’re dealing with potential dangers on a daily basis\, or you work in a remote location far from medical services\, this training is essential. Don’t settle for basic knowledge when it comes to saving lives. Enroll in First Aid Level Two today and gain the confidence and skills needed to handle any emergency situation! \nDuration: 4 Days \nCertificate valid for 3 years \n\n\n\nFirst Aid Level 1 and 2 Combined\n\n\n\nOnce payment is complete you will be asked to complete a registration form. \n\n\n\n \n \n\n\n\n\n\n\n\n\nQuantity:
URL:https://nfaa.co.za/event/first-aid-level-1-and-2-combined/
LOCATION:Office of IBTC\, IBTC\, Grayston Ridge Office park Block B \, 144 Katherine St\, Sandown\, Sandton\, Gauteng\, 2031
CATEGORIES:Sandton Training Venue
ATTACH;FMTTYPE=image/webp:https://nfaa.co.za/wp-content/uploads/2023/02/IBTC-Sandton-1536x630.png-DQ3k3m.tmp_-e1680641813352.webp
ORGANIZER;CN="NFAA Office":MAILTO:info@nfaa.co.za
END:VEVENT
BEGIN:VEVENT
DTSTART;TZID=Africa/Johannesburg:20240115T090000
DTEND;TZID=Africa/Johannesburg:20240119T160000
DTSTAMP:20260424T200814
CREATED:20230223T132537Z
LAST-MODIFIED:20231206T120622Z
UID:530-1705309200-1705680000@nfaa.co.za
SUMMARY:First Aid Level 3
DESCRIPTION:Provide first aid as an advanced first responder. U/S 376480 \n\n\n\n\n\n\nLooking for the ultimate first aid course that’ll set you up to be a leader in your workplace? Look no further than First Aid Level 3! This intensive course is the most comprehensive and detailed of its kind\, arming you with all the knowledge and practical experience you’ll need to be a top-tier first aid officer. With subjects ranging from basic first aid to advanced trauma management\, you’ll be prepared to handle anything that comes your way. \nBut this isn’t just a theoretical course – practical exercises make up a significant portion of the program\, giving you the hands-on experience\, you’ll need to confidently handle high-stress situations. So why wait? Sign up for First Aid Level 3 and take your first step towards becoming a skilled and respected first aid team leader today! \nDuration: 4 Days \nCertificate valid for 3 years \n\n\n\nFirst Aid Level 3\n\n\n\nOnce payment is complete you will be asked to complete a registration form. \n\n\n\n \n \n\n\n\n\n\n\n\n\nQuantity:
URL:https://nfaa.co.za/event/first-aid-level-three/
LOCATION:Office of IBTC\, IBTC\, Grayston Ridge Office park Block B \, 144 Katherine St\, Sandown\, Sandton\, Gauteng\, 2031
CATEGORIES:Sandton Training Venue
ATTACH;FMTTYPE=image/webp:https://nfaa.co.za/wp-content/uploads/2023/02/IBTC-Sandton-1536x630.png-DQ3k3m.tmp_-e1680641813352.webp
ORGANIZER;CN="NFAA Office":MAILTO:info@nfaa.co.za
END:VEVENT
END:VCALENDAR