BEGIN:VCALENDAR
VERSION:2.0
PRODID:-//NFAA - ECPv6.15.20//NONSGML v1.0//EN
CALSCALE:GREGORIAN
METHOD:PUBLISH
X-WR-CALNAME:NFAA
X-ORIGINAL-URL:https://nfaa.co.za
X-WR-CALDESC:Events for NFAA
REFRESH-INTERVAL;VALUE=DURATION:PT1H
X-Robots-Tag:noindex
X-PUBLISHED-TTL:PT1H
BEGIN:VTIMEZONE
TZID:Africa/Johannesburg
BEGIN:STANDARD
TZOFFSETFROM:+0200
TZOFFSETTO:+0200
TZNAME:SAST
DTSTART:20230101T000000
END:STANDARD
END:VTIMEZONE
BEGIN:VEVENT
DTSTART;TZID=Africa/Johannesburg:20240902T080000
DTEND;TZID=Africa/Johannesburg:20240903T150000
DTSTAMP:20260422T094352
CREATED:20230223T131948Z
LAST-MODIFIED:20240208T083406Z
UID:496-1725264000-1725375600@nfaa.co.za
SUMMARY:First Aid Level 1 Save A Child
DESCRIPTION:The “Basic First Aid: Save a Child” course is designed to provide individuals with the knowledge and skills necessary to provide emergency care for a child in need. The course covers a range of topics including CPR\, choking\, bleeding\, burns\, fractures\, and other common medical emergencies that can occur in children. Participants will learn how to assess a child’s condition\, administer appropriate first aid techniques\, and communicate effectively with emergency responders. \nThe course is ideal for parents\, caregivers\, teachers\, and anyone else who may be responsible for the safety and well-being of children. By completing this course\, participants will be better equipped to respond to emergencies and potentially save a child’s life. \nCOURSE DURATION: 2 DAYS \n\n\nFirst Aid Level 1 Save a Child\n\n\n\nOnce payment is complete you will be asked to complete a registration form. \n\n\n\n \n \n\n\n\n\n\n\n\n\nQuantity:
URL:https://nfaa.co.za/event/first-aid-level-1-save-a-child-7/
LOCATION:Office of IBTC\, IBTC\, Grayston Ridge Office park Block B \, 144 Katherine St\, Sandown\, Sandton\, Gauteng\, 2031
CATEGORIES:Sandton Training Venue
ATTACH;FMTTYPE=image/webp:https://nfaa.co.za/wp-content/uploads/2023/02/IBTC-Sandton-1536x630.png-DQ3k3m.tmp_-e1680641813352.webp
ORGANIZER;CN="NFAA Office":MAILTO:info@nfaa.co.za
END:VEVENT
BEGIN:VEVENT
DTSTART;TZID=Africa/Johannesburg:20240902T080000
DTEND;TZID=Africa/Johannesburg:20240903T150000
DTSTAMP:20260422T094352
CREATED:20230223T132159Z
LAST-MODIFIED:20240208T083346Z
UID:511-1725264000-1725375600@nfaa.co.za
SUMMARY:First Aid Level 1
DESCRIPTION:Basic Emergency First Aid Responder. QCTO SP-230801. (Basic First Aid in Emergencies) \n\n\n\n\n\nGet ready to become a lifesaver with this entry-level first aid course! Designed to equip workers\, students\, and basic life support providers with essential skills and knowledge\, this course covers the basics of first aid in relation to prescribed standards. \nOver the course of two action-packed days\, you’ll learn how to manage and resuscitate people\, including the specific handling of babies and children. By the end of the program\, you’ll be able to perform the basics of first aid with confidence\, making you a valuable asset in any emergency situation. Don’t wait – sign up today and start your journey towards becoming a hero! \nDuration: 2 Days \nCertificate valid for 3 years \n\n\nFirst Aid Level 1 \n\n\n\nOnce payment is complete you will be asked to complete a registration form. \n\n\n\n\n \n\n\n\n\n\n\n\n\nQuantity:
URL:https://nfaa.co.za/event/first-aid-level-1-8/
LOCATION:Office of IBTC\, IBTC\, Grayston Ridge Office park Block B \, 144 Katherine St\, Sandown\, Sandton\, Gauteng\, 2031
CATEGORIES:Sandton Training Venue
ATTACH;FMTTYPE=image/webp:https://nfaa.co.za/wp-content/uploads/2023/02/IBTC-Sandton-1536x630.png-DQ3k3m.tmp_-e1680641813352.webp
ORGANIZER;CN="NFAA Office":MAILTO:info@nfaa.co.za
END:VEVENT
BEGIN:VEVENT
DTSTART;TZID=Africa/Johannesburg:20240902T080000
DTEND;TZID=Africa/Johannesburg:20240905T150000
DTSTAMP:20260422T094352
CREATED:20230223T132416Z
LAST-MODIFIED:20240208T083431Z
UID:524-1725264000-1725548400@nfaa.co.za
SUMMARY:First Aid Level 1 and 2 combined
DESCRIPTION:Provide risk-based primary emergency care. US/ 119567 and 120496 \n\n\n\n\n\nIf you’re looking to up skill yourself or your employees in first aid\, look no further than this course! Covering all the material from both level one and level two courses\, this comprehensive program is perfect for those working in high-risk environments. \nWhether you’re dealing with potential dangers on a daily basis\, or you work in a remote location far from medical services\, this training is essential. Don’t settle for basic knowledge when it comes to saving lives. Enroll in First Aid Level Two today and gain the confidence and skills needed to handle any emergency situation! \nDuration: 4 Days \nCertificate valid for 3 years \n\n\nFirst Aid Level 1 and 2 Combined\n\n\n\nOnce payment is complete you will be asked to complete a registration form. \n\n\n\n \n \n\n\n\n\n\n\n\n\nQuantity:
URL:https://nfaa.co.za/event/first-aid-level-1-and-2-combined-8/
LOCATION:Office of IBTC\, IBTC\, Grayston Ridge Office park Block B \, 144 Katherine St\, Sandown\, Sandton\, Gauteng\, 2031
CATEGORIES:Sandton Training Venue
ATTACH;FMTTYPE=image/webp:https://nfaa.co.za/wp-content/uploads/2023/02/IBTC-Sandton-1536x630.png-DQ3k3m.tmp_-e1680641813352.webp
ORGANIZER;CN="NFAA Office":MAILTO:info@nfaa.co.za
END:VEVENT
BEGIN:VEVENT
DTSTART;TZID=Africa/Johannesburg:20240902T080000
DTEND;TZID=Africa/Johannesburg:20240905T150000
DTSTAMP:20260422T094352
CREATED:20230223T132738Z
LAST-MODIFIED:20240830T063520Z
UID:536-1725264000-1725548400@nfaa.co.za
SUMMARY:First Aid Level 3 Fully Booked
DESCRIPTION:Provide first aid as an advanced first responder. U/S 376480 \n\n\n\n\n\nLooking for the ultimate first aid course that’ll set you up to be a leader in your workplace? Look no further than First Aid Level 3! This intensive course is the most comprehensive and detailed of its kind\, arming you with all the knowledge and practical experience you’ll need to be a top-tier first aid officer. With subjects ranging from basic first aid to advanced trauma management\, you’ll be prepared to handle anything that comes your way. \nBut this isn’t just a theoretical course – practical exercises make up a significant portion of the program\, giving you the hands-on experience\, you’ll need to confidently handle high-stress situations. So why wait? Sign up for First Aid Level 3 and take your first step towards becoming a skilled and respected first aid team leader today! \nDuration: 4 Days \nCertificate valid for 3 years \n\n\nFirst Aid Level 3\n\n\n\nOnce payment is complete you will be asked to complete a registration form. \n\n\n\n \n \n\n\n\n\n\n\n\n\nQuantity:
URL:https://nfaa.co.za/event/first-aid-level-three-7/
LOCATION:Office of IBTC\, IBTC\, Grayston Ridge Office park Block B \, 144 Katherine St\, Sandown\, Sandton\, Gauteng\, 2031
CATEGORIES:Sandton Training Venue
ATTACH;FMTTYPE=image/webp:https://nfaa.co.za/wp-content/uploads/2023/02/IBTC-Sandton-1536x630.png-DQ3k3m.tmp_-e1680641813352.webp
ORGANIZER;CN="NFAA Office":MAILTO:info@nfaa.co.za
END:VEVENT
BEGIN:VEVENT
DTSTART;TZID=Africa/Johannesburg:20240903T230000
DTEND;TZID=Africa/Johannesburg:20240904T225959
DTSTAMP:20260422T094352
CREATED:20230223T133104Z
LAST-MODIFIED:20250507T121718Z
UID:571-1725404400-1725490799@nfaa.co.za
SUMMARY:SHE Representative
DESCRIPTION:Describe the functions of the workplace health and safety representative U/S 259622. \n\n\n\n\n\n\nOccupational Health and Safety (OHS) is a crucial aspect of workplace management\, aimed at ensuring the safety\, health\, and welfare of employees. An OHS representative in the workplace is a designated employee who acts as a liaison between workers and management to ensure compliance with the Occupational Health and Safety Act. The Act is a legal framework that sets out the rights and responsibilities of both employers and employees with regard to OHS matters.Overall\, an OHS representative is a key player in ensuring a safe and healthy workplace. \nThey work collaboratively with management and employees to promote OHS awareness\, identify potential hazards\, and implement preventative measures. By complying with the Occupational Health and Safety Act\, employers and employees can create a work environment that is safe\, healthy\, and productive for all. \nDuration: 1 Day \nCertificate valid for 3 years \n\n\n\nOccupational Health and Safety Act. \n\n\n\nSHE Rep.\n\n\n\nOnce payment is complete you will be asked to complete a registration form. \n\n\n\n\n \n\n\n\n\n\n\n\n\nQuantity:
URL:https://nfaa.co.za/event/she-represetative-2/
LOCATION:Office of IBTC\, IBTC\, Grayston Ridge Office park Block B \, 144 Katherine St\, Sandown\, Sandton\, Gauteng\, 2031
CATEGORIES:Sandton Training Venue
ATTACH;FMTTYPE=image/webp:https://nfaa.co.za/wp-content/uploads/2023/02/IBTC-Sandton-1536x630.png-DQ3k3m.tmp_-e1680641813352.webp
ORGANIZER;CN="NFAA Office":MAILTO:info@nfaa.co.za
END:VEVENT
BEGIN:VEVENT
DTSTART;TZID=Africa/Johannesburg:20240906T080000
DTEND;TZID=Africa/Johannesburg:20240906T150000
DTSTAMP:20260422T094352
CREATED:20230223T133119Z
LAST-MODIFIED:20250108T081011Z
UID:576-1725609600-1725634800@nfaa.co.za
SUMMARY:SHE Representative
DESCRIPTION:Describe the functions of the workplace health and safety representative U/S 259622. \n\n\n\n\n\n\nOccupational Health and Safety (OHS) is a crucial aspect of workplace management\, aimed at ensuring the safety\, health\, and welfare of employees. An OHS representative in the workplace is a designated employee who acts as a liaison between workers and management to ensure compliance with the Occupational Health and Safety Act. The Act is a legal framework that sets out the rights and responsibilities of both employers and employees with regard to OHS matters.Overall\, an OHS representative is a key player in ensuring a safe and healthy workplace. \nThey work collaboratively with management and employees to promote OHS awareness\, identify potential hazards\, and implement preventative measures. By complying with the Occupational Health and Safety Act\, employers and employees can create a work environment that is safe\, healthy\, and productive for all. \nDuration: 1 Day \nCertificate valid for 3 years \n\n\n\nOccupational Health and Safety Act. \n\n\n\nSHE Rep.\n\n\n\nOnce payment is complete you will be asked to complete a registration form. \n\n\n\n\n \n\n\n\n\n\n\n\n\nQuantity:
URL:https://nfaa.co.za/event/she-represetative-7/
LOCATION:Office of IBTC\, IBTC\, Grayston Ridge Office park Block B \, 144 Katherine St\, Sandown\, Sandton\, Gauteng\, 2031
CATEGORIES:Sandton Training Venue
ATTACH;FMTTYPE=image/webp:https://nfaa.co.za/wp-content/uploads/2023/02/IBTC-Sandton-1536x630.png-DQ3k3m.tmp_-e1680641813352.webp
ORGANIZER;CN="NFAA Office":MAILTO:info@nfaa.co.za
END:VEVENT
END:VCALENDAR