BEGIN:VCALENDAR
VERSION:2.0
PRODID:-//NFAA - ECPv6.15.20//NONSGML v1.0//EN
CALSCALE:GREGORIAN
METHOD:PUBLISH
X-WR-CALNAME:NFAA
X-ORIGINAL-URL:https://nfaa.co.za
X-WR-CALDESC:Events for NFAA
REFRESH-INTERVAL;VALUE=DURATION:PT1H
X-Robots-Tag:noindex
X-PUBLISHED-TTL:PT1H
BEGIN:VTIMEZONE
TZID:Africa/Johannesburg
BEGIN:STANDARD
TZOFFSETFROM:+0200
TZOFFSETTO:+0200
TZNAME:SAST
DTSTART:20230101T000000
END:STANDARD
END:VTIMEZONE
BEGIN:VEVENT
DTSTART;TZID=Africa/Johannesburg:20241204T000000
DTEND;TZID=Africa/Johannesburg:20241204T235959
DTSTAMP:20260422T044821
CREATED:20230223T133103Z
LAST-MODIFIED:20250507T121724Z
UID:570-1733270400-1733356799@nfaa.co.za
SUMMARY:SHE Representative
DESCRIPTION:Describe the functions of the workplace health and safety representative U/S 259622. \n\n\n\n\n\n\nOccupational Health and Safety (OHS) is a crucial aspect of workplace management\, aimed at ensuring the safety\, health\, and welfare of employees. An OHS representative in the workplace is a designated employee who acts as a liaison between workers and management to ensure compliance with the Occupational Health and Safety Act. The Act is a legal framework that sets out the rights and responsibilities of both employers and employees with regard to OHS matters.Overall\, an OHS representative is a key player in ensuring a safe and healthy workplace. \nThey work collaboratively with management and employees to promote OHS awareness\, identify potential hazards\, and implement preventative measures. By complying with the Occupational Health and Safety Act\, employers and employees can create a work environment that is safe\, healthy\, and productive for all. \nDuration: 1 Day \nCertificate valid for 3 years \n\n\n\nOccupational Health and Safety Act. \n\n\n\nSHE Rep.\n\n\n\nOnce payment is complete you will be asked to complete a registration form. \n\n\n\n\n \n\n\n\n\n\n\n\n\nQuantity:
URL:https://nfaa.co.za/event/she-represetative/
LOCATION:Office of IBTC\, IBTC\, Grayston Ridge Office park Block B \, 144 Katherine St\, Sandown\, Sandton\, Gauteng\, 2031
CATEGORIES:Sandton Training Venue
ATTACH;FMTTYPE=image/webp:https://nfaa.co.za/wp-content/uploads/2023/02/IBTC-Sandton-1536x630.png-DQ3k3m.tmp_-e1680641813352.webp
ORGANIZER;CN="NFAA Office":MAILTO:info@nfaa.co.za
END:VEVENT
BEGIN:VEVENT
DTSTART;TZID=Africa/Johannesburg:20241209T090000
DTEND;TZID=Africa/Johannesburg:20241210T160000
DTSTAMP:20260422T044821
CREATED:20230223T131950Z
LAST-MODIFIED:20241204T125708Z
UID:498-1733734800-1733846400@nfaa.co.za
SUMMARY:First Aid Level 1 Save A Child FULLY BOOKED
DESCRIPTION:The “Basic First Aid: Save a Child” course is designed to provide individuals with the knowledge and skills necessary to provide emergency care for a child in need. The course covers a range of topics including CPR\, choking\, bleeding\, burns\, fractures\, and other common medical emergencies that can occur in children. \nParticipants will learn how to assess a child’s condition\, administer appropriate first aid techniques\, and communicate effectively with emergency responders. The course is ideal for parents\, caregivers\, teachers\, and anyone else who may be responsible for the safety and well-being of children. By completing this course\, participants will be better equipped to respond to emergencies and potentially save a child’s life. \nCOURSE DURATION: 2 DAYS \n\n\n\nFirst Aid Level 1 Save a Child\n\n\n\nOnce payment is complete you will be asked to complete a registration form. \n\n\n\n \n \n\n\n\n\n\n\n\n\nQuantity:
URL:https://nfaa.co.za/event/first-aid-level-1-save-a-child-9/
LOCATION:Office of IBTC\, IBTC\, Grayston Ridge Office park Block B \, 144 Katherine St\, Sandown\, Sandton\, Gauteng\, 2031
CATEGORIES:Sandton Training Venue
ATTACH;FMTTYPE=image/webp:https://nfaa.co.za/wp-content/uploads/2023/02/IBTC-Sandton-1536x630.png-DQ3k3m.tmp_-e1680641813352.webp
ORGANIZER;CN="NFAA Office":MAILTO:info@nfaa.co.za
END:VEVENT
BEGIN:VEVENT
DTSTART;TZID=Africa/Johannesburg:20241209T090000
DTEND;TZID=Africa/Johannesburg:20241212T160000
DTSTAMP:20260422T044821
CREATED:20230223T132739Z
LAST-MODIFIED:20241018T120602Z
UID:538-1733734800-1734019200@nfaa.co.za
SUMMARY:First Aid Level 3
DESCRIPTION:Provide first aid as an advanced first responder. U/S 376480 \n\n\n\n\n\n\nLooking for the ultimate first aid course that’ll set you up to be a leader in your workplace? Look no further than First Aid Level 3! This intensive course is the most comprehensive and detailed of its kind\, arming you with all the knowledge and practical experience you’ll need to be a top-tier first aid officer. With subjects ranging from basic first aid to advanced trauma management\, you’ll be prepared to handle anything that comes your way. But this isn’t just a theoretical course – practical exercises make up a significant portion of the program\, giving you the hands-on experience\, you’ll need to confidently handle high-stress situations. So why wait? Sign up for First Aid Level 3 and take your first step towards becoming a skilled and respected first aid team leader today! Duration: 4 Days Certificate valid for 3 years \n\n\n\nFirst Aid Level 3\n\n\n\nOnce payment is complete you will be asked to complete a registration form. \n\n\n\n \n \n\n\n\n\n\n\n\n\nQuantity:
URL:https://nfaa.co.za/event/first-aid-level-three-9/
LOCATION:Office of IBTC\, IBTC\, Grayston Ridge Office park Block B \, 144 Katherine St\, Sandown\, Sandton\, Gauteng\, 2031
CATEGORIES:Sandton Training Venue
ATTACH;FMTTYPE=image/webp:https://nfaa.co.za/wp-content/uploads/2023/02/IBTC-Sandton-1536x630.png-DQ3k3m.tmp_-e1680641813352.webp
ORGANIZER;CN="NFAA Office":MAILTO:info@nfaa.co.za
END:VEVENT
BEGIN:VEVENT
DTSTART;TZID=Africa/Johannesburg:20241213T090000
DTEND;TZID=Africa/Johannesburg:20241213T160000
DTSTAMP:20260422T044821
CREATED:20230223T133121Z
LAST-MODIFIED:20241018T120706Z
UID:579-1734080400-1734105600@nfaa.co.za
SUMMARY:SHE Representative
DESCRIPTION:Describe the functions of the workplace health and safety representative U/S 259622. \n\n\n\n\n\n\nOccupational Health and Safety (OHS) is a crucial aspect of workplace management\, aimed at ensuring the safety\, health\, and welfare of employees. An OHS representative in the workplace is a designated employee who acts as a liaison between workers and management to ensure compliance with the Occupational Health and Safety Act. The Act is a legal framework that sets out the rights and responsibilities of both employers and employees with regard to OHS matters.Overall\, an OHS representative is a key player in ensuring a safe and healthy workplace. \nThey work collaboratively with management and employees to promote OHS awareness\, identify potential hazards\, and implement preventative measures. By complying with the Occupational Health and Safety Act\, employers and employees can create a work environment that is safe\, healthy\, and productive for all. \nDuration: 1 Day \nCertificate valid for 3 years \n\n\n\nOccupational Health and Safety Act. \n\n\n\nSHE Rep.\n\n\n\nOnce payment is complete you will be asked to complete a registration form. \n\n\n\n\n \n\n\n\n\n\n\n\n\nQuantity:
URL:https://nfaa.co.za/event/she-represetative-10/
LOCATION:Office of IBTC\, IBTC\, Grayston Ridge Office park Block B \, 144 Katherine St\, Sandown\, Sandton\, Gauteng\, 2031
CATEGORIES:Sandton Training Venue
ATTACH;FMTTYPE=image/webp:https://nfaa.co.za/wp-content/uploads/2023/02/IBTC-Sandton-1536x630.png-DQ3k3m.tmp_-e1680641813352.webp
ORGANIZER;CN="NFAA Office":MAILTO:info@nfaa.co.za
END:VEVENT
END:VCALENDAR