BEGIN:VCALENDAR
VERSION:2.0
PRODID:-//NFAA - ECPv6.15.20//NONSGML v1.0//EN
CALSCALE:GREGORIAN
METHOD:PUBLISH
X-ORIGINAL-URL:https://nfaa.co.za
X-WR-CALDESC:Events for NFAA
REFRESH-INTERVAL;VALUE=DURATION:PT1H
X-Robots-Tag:noindex
X-PUBLISHED-TTL:PT1H
BEGIN:VTIMEZONE
TZID:Africa/Johannesburg
BEGIN:STANDARD
TZOFFSETFROM:+0200
TZOFFSETTO:+0200
TZNAME:SAST
DTSTART:20240101T000000
END:STANDARD
END:VTIMEZONE
BEGIN:VEVENT
DTSTART;TZID=Africa/Johannesburg:20250203T090000
DTEND;TZID=Africa/Johannesburg:20250204T160000
DTSTAMP:20260422T011622
CREATED:20230223T132201Z
LAST-MODIFIED:20251208T050634Z
UID:514-1738573200-1738684800@nfaa.co.za
SUMMARY:First Aid Level 1
DESCRIPTION:Basic Emergency First Aid Responder. QCTO SP-230801. (Basic First Aid in Emergencies) \n\n\n\n\n\n\nGet ready to become a lifesaver with this entry-level first aid course! Designed to equip workers\, students\, and basic life support providers with essential skills and knowledge\, this course covers the basics of first aid in relation to prescribed standards. \nOver the course of two action-packed days\, you’ll learn how to manage and resuscitate people\, including the specific handling of babies and children. By the end of the program\, you’ll be able to perform the basics of first aid with confidence\, making you a valuable asset in any emergency situation. Don’t wait – sign up today and start your journey towards becoming a hero! \nDuration: 2 Days \nCertificate valid for 3 years \n\n\n\nFirst Aid Level 1 \n\n\n\nOnce payment is complete you will be asked to complete a registration form. \n\n\n\n\n \n\n\n\n\n\n\n\n\nQuantity:
URL:https://nfaa.co.za/event/first-aid-level-1-11/
CATEGORIES:Sandton Training Venue
ATTACH;FMTTYPE=image/webp:https://nfaa.co.za/wp-content/uploads/2023/02/IBTC-Sandton-1536x630.png-DQ3k3m.tmp_-e1680641813352.webp
ORGANIZER;CN="NFAA Office":MAILTO:info@nfaa.co.za
END:VEVENT
BEGIN:VEVENT
DTSTART;TZID=Africa/Johannesburg:20250203T090000
DTEND;TZID=Africa/Johannesburg:20250206T160000
DTSTAMP:20260422T011622
CREATED:20230223T133007Z
LAST-MODIFIED:20251208T050654Z
UID:554-1738573200-1738857600@nfaa.co.za
SUMMARY:First Aid Levels 1-3 Combined
DESCRIPTION:(1)Basic Emergency First Aid Responder – QCTO SP-230801.\n\n\n\n(2)Intermediate Emergency First Aid Responder – QCTO SP-230802.\n\n\n\n(3)Advanced Emergency First Aid Responder – QCTO SP-230803.Choose your combination 1&2\, 2&3 or 1 to 3. \n\n\n\n\n\n\n\nAre you looking for a first aid course that will equip you with all the necessary skills to become a first aid team leader? Look no further than our First Aid Level 1\, 2 and 3 combined course. This comprehensive and detailed program will provide you with all the knowledge and practical experience required to be a top-notch first aid officer. \nOur course covers everything from Level 1 to 3\, with a significant emphasis on practical exercises that prepare you for high-stress situations. Upon completion\, you’ll be evaluated with a full written and practical trauma scene management test. Don’t settle for less when it comes to your first aid training – sign up for our Level 1\, 2 and 3 combined course today! \nDuration: 4 Days \nCertificate valid for 3 years \n\n\n\nFirst Aid Level 1 to 3 Combined\n\n\n\nOnce payment is complete you will be asked to complete a registration form. \n\n\n\n\n \n\n\n\n\n\n\n\n\nQuantity:
URL:https://nfaa.co.za/event/first-aid-levels-1-3-combined-11/
LOCATION:Office of IBTC\, IBTC\, Grayston Ridge Office park Block B \, 144 Katherine St\, Sandown\, Sandton\, Gauteng\, 2031
CATEGORIES:Sandton Training Venue
ATTACH;FMTTYPE=image/webp:https://nfaa.co.za/wp-content/uploads/2023/02/IBTC-Sandton-1536x630.png-DQ3k3m.tmp_-e1680641813352.webp
ORGANIZER;CN="NFAA Office":MAILTO:info@nfaa.co.za
END:VEVENT
END:VCALENDAR