BEGIN:VCALENDAR
VERSION:2.0
PRODID:-//NFAA - ECPv6.15.20//NONSGML v1.0//EN
CALSCALE:GREGORIAN
METHOD:PUBLISH
X-ORIGINAL-URL:https://nfaa.co.za
X-WR-CALDESC:Events for NFAA
REFRESH-INTERVAL;VALUE=DURATION:PT1H
X-Robots-Tag:noindex
X-PUBLISHED-TTL:PT1H
BEGIN:VTIMEZONE
TZID:Africa/Johannesburg
BEGIN:STANDARD
TZOFFSETFROM:+0200
TZOFFSETTO:+0200
TZNAME:SAST
DTSTART:20240101T000000
END:STANDARD
END:VTIMEZONE
BEGIN:VEVENT
DTSTART;TZID=Africa/Johannesburg:20250407T080000
DTEND;TZID=Africa/Johannesburg:20250408T150000
DTSTAMP:20260421T215306
CREATED:20230223T132200Z
LAST-MODIFIED:20250113T112015Z
UID:512-1744012800-1744124400@nfaa.co.za
SUMMARY:First Aid Level 1
DESCRIPTION:Basic Emergency First Aid Responder. QCTO SP-230801. (Basic First Aid in Emergencies) \n\n\n\n\n\n\nGet ready to become a lifesaver with this entry-level first aid course! Designed to equip workers\, students\, and basic life support providers with essential skills and knowledge\, this course covers the basics of first aid in relation to prescribed standards. \nOver the course of two action-packed days\, you’ll learn how to manage and resuscitate people\, including the specific handling of babies and children. By the end of the program\, you’ll be able to perform the basics of first aid with confidence\, making you a valuable asset in any emergency situation. Don’t wait – sign up today and start your journey towards becoming a hero! \nDuration: 2 Days \nCertificate valid for 3 years \n\n\n\nFirst Aid Level 1 \n\n\n\nOnce payment is complete you will be asked to complete a registration form. \n\n\n\n\n \n\n\n\n\n\n\n\n\nQuantity:
URL:https://nfaa.co.za/event/first-aid-level-1-9/
LOCATION:Office of IBTC\, IBTC\, Grayston Ridge Office park Block B \, 144 Katherine St\, Sandown\, Sandton\, Gauteng\, 2031
CATEGORIES:Sandton Training Venue
ATTACH;FMTTYPE=image/webp:https://nfaa.co.za/wp-content/uploads/2023/02/IBTC-Sandton-1536x630.png-DQ3k3m.tmp_-e1680641813352.webp
ORGANIZER;CN="NFAA Office":MAILTO:info@nfaa.co.za
END:VEVENT
BEGIN:VEVENT
DTSTART;TZID=Africa/Johannesburg:20250407T080000
DTEND;TZID=Africa/Johannesburg:20250410T150000
DTSTAMP:20260421T215306
CREATED:20230223T132522Z
LAST-MODIFIED:20250113T111951Z
UID:525-1744012800-1744297200@nfaa.co.za
SUMMARY:First Aid Level 1 and 2 combined
DESCRIPTION:Provide risk-based primary emergency care. US/ 119567 and 120496 \n\n\n\n\n\n\nIf you’re looking to upskill yourself or your employees in first aid\, look no further than this course! Covering all the material from both level one and level two courses\, this comprehensive program is perfect for those working in high-risk environments. Whether you’re dealing with potential dangers on a daily basis\, or you work in a remote location far from medical services\, this training is essential. Don’t settle for basic knowledge when it comes to saving lives. Enroll in First Aid Level Two today and gain the confidence and skills needed to handle any emergency situation! Duration: 4 Days Certificate valid for 3 years \n\n\n\nFirst Aid Level 1 and 2 Combined\n\n\n\nOnce payment is complete you will be asked to complete a registration form. \n\n\n\n \n \n\n\n\n\n\n\n\n\nQuantity:
URL:https://nfaa.co.za/event/first-aid-level-1-and-2-combined-9/
LOCATION:Office of IBTC\, IBTC\, Grayston Ridge Office park Block B \, 144 Katherine St\, Sandown\, Sandton\, Gauteng\, 2031
CATEGORIES:Sandton Training Venue
ATTACH;FMTTYPE=image/webp:https://nfaa.co.za/wp-content/uploads/2023/02/IBTC-Sandton-1536x630.png-DQ3k3m.tmp_-e1680641813352.webp
ORGANIZER;CN="NFAA Office":MAILTO:info@nfaa.co.za
END:VEVENT
BEGIN:VEVENT
DTSTART;TZID=Africa/Johannesburg:20250407T080000
DTEND;TZID=Africa/Johannesburg:20250410T150000
DTSTAMP:20260421T215306
CREATED:20230223T133005Z
LAST-MODIFIED:20250113T112257Z
UID:552-1744012800-1744297200@nfaa.co.za
SUMMARY:First Aid Levels 1-3 Combined
DESCRIPTION:Perform basic life support and first aid procedures – U/S 119567.\n\n\n\nProvide risk-based primary emergency care – U/S -120496.\n\n\n\nProvide first aid as an advanced first responder – U/S 376480.\n\n\n\n\n\n\n\nAre you looking for a first aid course that will equip you with all the necessary skills to become a first aid team leader? Look no further than our First Aid Level 1\, 2 and 3 combined course. This comprehensive and detailed program will provide you with all the knowledge and practical experience required to be a top-notch first aid officer. \nOur course covers everything from Level 1 to 3\, with a significant emphasis on practical exercises that prepare you for high-stress situations. Upon completion\, you’ll be evaluated with a full written and practical trauma scene management test. Don’t settle for less when it comes to your first aid training – sign up for our Level 1\, 2 and 3 combined course today! \nDuration: 4 Days \nCertificate valid for 3 years \n\n\n\nFirst Aid Level 1 to 3 Combined\n\n\n\nOnce payment is complete you will be asked to complete a registration form. \n\n\n\n\n \n\n\n\n\n\n\n\n\nQuantity:
URL:https://nfaa.co.za/event/first-aid-levels-1-3-combined-9/
LOCATION:Office of IBTC\, IBTC\, Grayston Ridge Office park Block B \, 144 Katherine St\, Sandown\, Sandton\, Gauteng\, 2031
CATEGORIES:Sandton Training Venue
ATTACH;FMTTYPE=image/webp:https://nfaa.co.za/wp-content/uploads/2023/02/IBTC-Sandton-1536x630.png-DQ3k3m.tmp_-e1680641813352.webp
ORGANIZER;CN="NFAA Office":MAILTO:info@nfaa.co.za
END:VEVENT
BEGIN:VEVENT
DTSTART;TZID=Africa/Johannesburg:20250409T080000
DTEND;TZID=Africa/Johannesburg:20250409T150000
DTSTAMP:20260421T215306
CREATED:20251219T075623Z
LAST-MODIFIED:20260319T092843Z
UID:3487-1744185600-1744210800@nfaa.co.za
SUMMARY:Basic Fire control
DESCRIPTION:Perform basic firefighting. U/S 12484 \n\n\n\n\n\n\nEvery workplace—regardless of its industry\, size\, or location—should prioritize fire prevention training to minimize risks and safeguard lives. Our dynamic training course is designed to arm you with the critical knowledge and skills to tackle fire emergencies head-on. \nGet ready to dive into engaging learning experiences covering: \n\nThe Top Causes of Workplace Fires: Understand what sparks danger.\nFire Safety Principles: Master the fundamentals of keeping flames at bay.\nIdentifying and Evaluating Hazards: Spot potential risks before they ignite.\nEffective Use of Fire Extinguishers: Learn how to take control and extinguish flames safely!\n\nBut that’s not all! You’ll also grasp vital procedures for fire emergencies\, including step-by-step evacuation protocols and when to call in the professionals. \nDuration: 1 Day \nCertificate valid for 3 years \n\n\n\nBasic Fire Fighting\n\n\n\nOnce payment is complete you will be asked to complete a registration form. \n\n\n\n\n \n\n\n\n\n\n\n\n\nQuantity:
URL:https://nfaa.co.za/event/basic-fire-control-copy/
CATEGORIES:Sandton Training Venue
ATTACH;FMTTYPE=image/webp:https://nfaa.co.za/wp-content/uploads/2023/02/IBTC-Sandton-1536x630.png-DQ3k3m.tmp_-e1680641813352.webp
ORGANIZER;CN="NFAA Office":MAILTO:info@nfaa.co.za
END:VEVENT
END:VCALENDAR