BEGIN:VCALENDAR
VERSION:2.0
PRODID:-//NFAA - ECPv6.15.20//NONSGML v1.0//EN
CALSCALE:GREGORIAN
METHOD:PUBLISH
X-WR-CALNAME:NFAA
X-ORIGINAL-URL:https://nfaa.co.za
X-WR-CALDESC:Events for NFAA
REFRESH-INTERVAL;VALUE=DURATION:PT1H
X-Robots-Tag:noindex
X-PUBLISHED-TTL:PT1H
BEGIN:VTIMEZONE
TZID:Africa/Johannesburg
BEGIN:STANDARD
TZOFFSETFROM:+0200
TZOFFSETTO:+0200
TZNAME:SAST
DTSTART:20230101T000000
END:STANDARD
END:VTIMEZONE
BEGIN:VEVENT
DTSTART;TZID=Africa/Johannesburg:20240805T080000
DTEND;TZID=Africa/Johannesburg:20240806T150000
DTSTAMP:20260424T131041
CREATED:20230223T131947Z
LAST-MODIFIED:20240722T081725Z
UID:495-1722844800-1722956400@nfaa.co.za
SUMMARY:First Aid Level 1 Save A Child FULLY BOOKED
DESCRIPTION:The “Basic First Aid: Save a Child” course is designed to provide individuals with the knowledge and skills necessary to provide emergency care for a child in need. The course covers a range of topics including CPR\, choking\, bleeding\, burns\, fractures\, and other common medical emergencies that can occur in children. Participants will learn how to assess a child’s condition\, administer appropriate first aid techniques\, and communicate effectively with emergency responders. \nThe course is ideal for parents\, caregivers\, teachers\, and anyone else who may be responsible for the safety and well-being of children. By completing this course\, participants will be better equipped to respond to emergencies and potentially save a child’s life. \nCOURSE DURATION: 2 DAYS \n\n\nFirst Aid Level 1 Save a Child\n\n\n\nOnce payment is complete you will be asked to complete a registration form. \n\n\n\n \n \n\n\n\n\n\n\n\n\nQuantity:
URL:https://nfaa.co.za/event/first-aid-level-1-save-a-child-6/
LOCATION:Office of IBTC\, IBTC\, Grayston Ridge Office park Block B \, 144 Katherine St\, Sandown\, Sandton\, Gauteng\, 2031
CATEGORIES:Sandton Training Venue
ATTACH;FMTTYPE=image/webp:https://nfaa.co.za/wp-content/uploads/2023/02/IBTC-Sandton-1536x630.png-DQ3k3m.tmp_-e1680641813352.webp
ORGANIZER;CN="NFAA Office":MAILTO:info@nfaa.co.za
END:VEVENT
END:VCALENDAR