BEGIN:VCALENDAR
VERSION:2.0
PRODID:-//NFAA - ECPv6.15.20//NONSGML v1.0//EN
CALSCALE:GREGORIAN
METHOD:PUBLISH
X-WR-CALNAME:NFAA
X-ORIGINAL-URL:https://nfaa.co.za
X-WR-CALDESC:Events for NFAA
REFRESH-INTERVAL;VALUE=DURATION:PT1H
X-Robots-Tag:noindex
X-PUBLISHED-TTL:PT1H
BEGIN:VTIMEZONE
TZID:Africa/Johannesburg
BEGIN:STANDARD
TZOFFSETFROM:+0200
TZOFFSETTO:+0200
TZNAME:SAST
DTSTART:20230101T000000
END:STANDARD
END:VTIMEZONE
BEGIN:VEVENT
DTSTART;TZID=Africa/Johannesburg:20241107T000000
DTEND;TZID=Africa/Johannesburg:20241107T235959
DTSTAMP:20260421T151730
CREATED:20230223T133133Z
LAST-MODIFIED:20250507T121629Z
UID:580-1730937600-1731023999@nfaa.co.za
SUMMARY:SHE Representative
DESCRIPTION:Describe the functions of the workplace health and safety representative U/S 259622. \n\n\n\n\n\n\nOccupational Health and Safety (OHS) is a crucial aspect of workplace management\, aimed at ensuring the safety\, health\, and welfare of employees. An OHS representative in the workplace is a designated employee who acts as a liaison between workers and management to ensure compliance with the Occupational Health and Safety Act. The Act is a legal framework that sets out the rights and responsibilities of both employers and employees with regard to OHS matters.Overall\, an OHS representative is a key player in ensuring a safe and healthy workplace. \nThey work collaboratively with management and employees to promote OHS awareness\, identify potential hazards\, and implement preventative measures. By complying with the Occupational Health and Safety Act\, employers and employees can create a work environment that is safe\, healthy\, and productive for all. \nDuration: 1 Day \nCertificate valid for 3 years \n\n\n\nOccupational Health and Safety Act. \n\n\n\nSHE Rep.\n\n\n\nOnce payment is complete you will be asked to complete a registration form. \n\n\n\n\n \n\n\n\n\n\n\n\n\nQuantity:
URL:https://nfaa.co.za/event/she-represetative-11/
LOCATION:Office of IBTC\, IBTC\, Grayston Ridge Office park Block B \, 144 Katherine St\, Sandown\, Sandton\, Gauteng\, 2031
CATEGORIES:Sandton Training Venue
ATTACH;FMTTYPE=image/webp:https://nfaa.co.za/wp-content/uploads/2023/02/IBTC-Sandton-1536x630.png-DQ3k3m.tmp_-e1680641813352.webp
ORGANIZER;CN="NFAA Office":MAILTO:info@nfaa.co.za
END:VEVENT
BEGIN:VEVENT
DTSTART;TZID=Africa/Johannesburg:20241108T090000
DTEND;TZID=Africa/Johannesburg:20241108T160000
DTSTAMP:20260421T151730
CREATED:20230223T133119Z
LAST-MODIFIED:20240208T084547Z
UID:577-1731056400-1731081600@nfaa.co.za
SUMMARY:SHE Representative
DESCRIPTION:Describe the functions of the workplace health and safety representative U/S 259622. \n\n\n\n\n\nOccupational Health and Safety (OHS) is a crucial aspect of workplace management\, aimed at ensuring the safety\, health\, and welfare of employees. An OHS representative in the workplace is a designated employee who acts as a liaison between workers and management to ensure compliance with the Occupational Health and Safety Act. The Act is a legal framework that sets out the rights and responsibilities of both employers and employees with regard to OHS matters.Overall\, an OHS representative is a key player in ensuring a safe and healthy workplace. They work collaboratively with management and employees to promote OHS awareness\, identify potential hazards\, and implement preventative measures. By complying with the Occupational Health and Safety Act\, employers and employees can create a work environment that is safe\, healthy\, and productive for all. Duration: 1 Day Certificate valid for 3 years \n\n\nOccupational Health and Safety Act. \n\n\n\nSHE Rep.\n\n\n\nOnce payment is complete you will be asked to complete a registration form. \n\n\n\n\n \n\n\n\n\n\n\n\n\nQuantity:
URL:https://nfaa.co.za/event/she-represetative-8/
LOCATION:Office of IBTC\, IBTC\, Grayston Ridge Office park Block B \, 144 Katherine St\, Sandown\, Sandton\, Gauteng\, 2031
CATEGORIES:Sandton Training Venue
ATTACH;FMTTYPE=image/webp:https://nfaa.co.za/wp-content/uploads/2023/02/IBTC-Sandton-1536x630.png-DQ3k3m.tmp_-e1680641813352.webp
ORGANIZER;CN="NFAA Office":MAILTO:info@nfaa.co.za
END:VEVENT
END:VCALENDAR